BEGIN:VCALENDAR
VERSION:2.0
PRODID:-//Carson Now - ECPv6.15.20//NONSGML v1.0//EN
CALSCALE:GREGORIAN
METHOD:PUBLISH
X-WR-CALNAME:Carson Now
X-ORIGINAL-URL:https://www.carsonnow.org
X-WR-CALDESC:Events for Carson Now
REFRESH-INTERVAL;VALUE=DURATION:PT1H
X-Robots-Tag:noindex
X-PUBLISHED-TTL:PT1H
BEGIN:VTIMEZONE
TZID:America/Los_Angeles
BEGIN:DAYLIGHT
TZOFFSETFROM:-0800
TZOFFSETTO:-0700
TZNAME:PDT
DTSTART:20240310T100000
END:DAYLIGHT
BEGIN:STANDARD
TZOFFSETFROM:-0700
TZOFFSETTO:-0800
TZNAME:PST
DTSTART:20241103T090000
END:STANDARD
BEGIN:DAYLIGHT
TZOFFSETFROM:-0800
TZOFFSETTO:-0700
TZNAME:PDT
DTSTART:20250309T100000
END:DAYLIGHT
BEGIN:STANDARD
TZOFFSETFROM:-0700
TZOFFSETTO:-0800
TZNAME:PST
DTSTART:20251102T090000
END:STANDARD
BEGIN:DAYLIGHT
TZOFFSETFROM:-0800
TZOFFSETTO:-0700
TZNAME:PDT
DTSTART:20260308T100000
END:DAYLIGHT
BEGIN:STANDARD
TZOFFSETFROM:-0700
TZOFFSETTO:-0800
TZNAME:PST
DTSTART:20261101T090000
END:STANDARD
BEGIN:DAYLIGHT
TZOFFSETFROM:-0800
TZOFFSETTO:-0700
TZNAME:PDT
DTSTART:20270314T100000
END:DAYLIGHT
BEGIN:STANDARD
TZOFFSETFROM:-0700
TZOFFSETTO:-0800
TZNAME:PST
DTSTART:20271107T090000
END:STANDARD
END:VTIMEZONE
BEGIN:VEVENT
DTSTART;TZID=America/Los_Angeles:20260409T090000
DTEND;TZID=America/Los_Angeles:20260409T113000
DTSTAMP:20260421T164238
CREATED:20260407T201003Z
LAST-MODIFIED:20260407T201005Z
UID:10042424-1775725200-1775734200@www.carsonnow.org
SUMMARY:Healthy Communities meets Thursday April 9th
DESCRIPTION:Healthy Communities Coalition of Lyon and Storey Counties’ next public meeting takes place Thursday\, April 9\, 2026 at the Silver Springs Community Center at 2945 Fort Churchill Street\, Silver Springs\, Nevada 89429from 9am to 11:30am.  \n\n\n\nThe April meeting includes presentations on two different topics by guest speakers.  \n\n\n\nRepresentatives from the Nevada Department of Public and Behavioral Health\, the National Alliance on Mental Illness (NAMI) and NAMI Western Nevada will lead a townhall. The discussion will provide an opportunity for attendees to provide input on the 988 Suicide and Crisis Lifeline service.  \n\n\n\nAfterward\, Alisha Moss\, Healthy Communities’ Prevention Coordinator\, will give an update on Nevada’s Clean Indoor Air Act\, as well as updates about current tobacco use and vaping prevention strategies in our region. \n\n\n\nIn addition to breakfast and guest presentations\, the Coalition’s bi-monthly meetings include updates and announcements from Coalition staff\, volunteers and community partners. \n\n\n\nHealthy Communities Coalition is comprised of local\, state\, federal and tribal group partners\, community volunteers\, and a board of directors and staff all working together on a common goal to strengthen communities in the Lyon and Storey regions. The Coalition strives to promote and support sustainable\, inclusive prevention services\, community initiatives\, and capacity building systems that address all components of a healthy community. \n\n\n\nFor more information\, see healthycomm.org. \n\n\n\n\n\n\n\n\n\n\n\n\n\n\n	Related
URL:https://www.carsonnow.org/event/healthy-communities-meets-thursday-april-9th
LOCATION:Silver Springs Community Center\, 2945 Fort Churchill Street\, Silver Springs\, Nevada\, 89429\, United States
CATEGORIES:Community,Lyon County
ATTACH;FMTTYPE=image/jpeg:https://www.carsonnow.org/wp-content/uploads/2026/04/IMG_2460.jpeg
END:VEVENT
BEGIN:VEVENT
DTSTART;TZID=America/Los_Angeles:20260212T090000
DTEND;TZID=America/Los_Angeles:20260212T110000
DTSTAMP:20260421T164238
CREATED:20260205T234651Z
LAST-MODIFIED:20260205T234653Z
UID:10040318-1770886800-1770894000@www.carsonnow.org
SUMMARY:Healthy Communities meets Thursday February 12th
DESCRIPTION:Healthy Communities Coalition of Lyon and Storey Counties’ next public meeting takes place Thursday\, February 12\, 2026 at the Silver Springs Community Center at 2945 Fort Churchill Street\, Silver Springs\, Nevada 89429 from 9am to 11am.  \n\n\n\nThe February meeting includes presentations on two different topics by guest speakers. Christina Cervi\, Senior Case Manager with Lyon County Human Services (LCHS) Children’s Services Division\, will give an overview of family support and home visiting services offered through LCHS. Alisha Moss\, Prevention Coordinator for HCC\, will give an overview of the Clean Indoor Air Act\, as well as updates about current tobacco use and vaping prevention strategies in our region. \n\n\n\nIn addition to breakfast and guest presentations\, the Coalition’s bi-monthly meetings include updates and announcements from Coalition staff\, volunteers and community partners. \n\n\n\nHealthy Communities Coalition is comprised of local\, state\, federal and tribal group partners\, community volunteers\, and a board of directors and staff all working together on a common goal to strengthen communities in the Lyon and Storey regions. The Coalition strives to promote and support sustainable\, inclusive prevention services\, community initiatives\, and capacity building systems that address all components of a healthy community. \n\n\n\nFor more information\, see healthycomm.org. \n\n\n\n\n\n\n\n\n\n\n\n\n\n\n	Related
URL:https://www.carsonnow.org/event/healthy-communities-meets-thursday-february-12th
LOCATION:Silver Springs Community Center\, 2945 Fort Churchill Street\, Silver Springs\, Nevada\, 89429\, United States
CATEGORIES:Community,Dayton,Lyon County,Storey County
ATTACH;FMTTYPE=image/jpeg:https://www.carsonnow.org/wp-content/uploads/2026/02/IMG_2105.jpeg
END:VEVENT
BEGIN:VEVENT
DTSTART;TZID=America/Los_Angeles:20251211T090000
DTEND;TZID=America/Los_Angeles:20251211T110000
DTSTAMP:20260421T164238
CREATED:20251209T185048Z
LAST-MODIFIED:20251209T185051Z
UID:10036379-1765443600-1765450800@www.carsonnow.org
SUMMARY:Healthy Communities Public Meeting Thursday December 11th
DESCRIPTION:Healthy Communities Coalition of Lyon and Storey Counties next breakfast meeting takes place Thursday\, December 11\, 2025 at the Silver Springs Community Center at 2945 Fort Churchill Street\, Silver Springs\, Nevada 89429from 9am to 11am.  \n\n\n\nThe public meeting includes presentations on two different topics by guest speakers. Speakers will give overviews of managed care provider CareSource\, and Nevada Office of Suicide Prevention. \n\n\n\nIn addition to breakfast and guest presentations\, the Coalition’s bi-monthly meetings include updates and announcements from Coalition staff\, community members and those from local\, state\, federal and tribal groups who are in attendance. \n\n\n\nHealthy Communities Coalition is comprised of local\, state\, federal and tribal group partners\, community volunteers\, and a board of directors and staff all working together on a common goal to strengthen communities in the Lyon and Storey regions. The Coalition strives to promote and support sustainable\, inclusive prevention services\, community initiatives\, and capacity building systems that address all components of a healthy community. \n\n\n\nFor more information\, see healthycomm.org. \n\n\n\n\n\n\n\n\n\n\n\n\n\n\n	Related
URL:https://www.carsonnow.org/event/healthy-communities-public-meeting-thursday-december-11th
LOCATION:Silver Springs Community Center\, 2945 Fort Churchill Street\, Silver Springs\, Nevada\, 89429\, United States
CATEGORIES:Community,Education,Lyon County,Service Clubs,Storey County
ATTACH;FMTTYPE=image/jpeg:https://www.carsonnow.org/wp-content/uploads/2025/12/IMG_1806.jpeg
END:VEVENT
END:VCALENDAR