BEGIN:VCALENDAR
VERSION:2.0
PRODID:-//Carson Now - ECPv6.15.20//NONSGML v1.0//EN
CALSCALE:GREGORIAN
METHOD:PUBLISH
X-ORIGINAL-URL:https://www.carsonnow.org
X-WR-CALDESC:Events for Carson Now
REFRESH-INTERVAL;VALUE=DURATION:PT1H
X-Robots-Tag:noindex
X-PUBLISHED-TTL:PT1H
BEGIN:VTIMEZONE
TZID:America/Los_Angeles
BEGIN:DAYLIGHT
TZOFFSETFROM:-0800
TZOFFSETTO:-0700
TZNAME:PDT
DTSTART:20240310T100000
END:DAYLIGHT
BEGIN:STANDARD
TZOFFSETFROM:-0700
TZOFFSETTO:-0800
TZNAME:PST
DTSTART:20241103T090000
END:STANDARD
BEGIN:DAYLIGHT
TZOFFSETFROM:-0800
TZOFFSETTO:-0700
TZNAME:PDT
DTSTART:20250309T100000
END:DAYLIGHT
BEGIN:STANDARD
TZOFFSETFROM:-0700
TZOFFSETTO:-0800
TZNAME:PST
DTSTART:20251102T090000
END:STANDARD
BEGIN:DAYLIGHT
TZOFFSETFROM:-0800
TZOFFSETTO:-0700
TZNAME:PDT
DTSTART:20260308T100000
END:DAYLIGHT
BEGIN:STANDARD
TZOFFSETFROM:-0700
TZOFFSETTO:-0800
TZNAME:PST
DTSTART:20261101T090000
END:STANDARD
END:VTIMEZONE
BEGIN:VEVENT
DTSTART;TZID=America/Los_Angeles:20251213T170000
DTEND;TZID=America/Los_Angeles:20251213T190000
DTSTAMP:20260422T160828
CREATED:20251204T220412Z
LAST-MODIFIED:20251204T223330Z
UID:10036239-1765645200-1765652400@www.carsonnow.org
SUMMARY:Winter Wonderland Drive-Thru Food Drive hosted by The Whyld Foundation
DESCRIPTION:Welcome to Whyld’s Winter Wonderland\, our very first drive-through food donation event created to support children and families in our community. Guests will enter from Stewart Street\, located behind 1087 South Carson Street. Our closest recognizable landmark is Old Red’s 395 Grill. \n\n\n\nAs you enter\, you’ll remain in your vehicle and be guided by our team of safety traffic directors through our donation route. Please have your non-perishable food items ready to pass through your window. From there\, you’ll drive straight into a magical Winter Wonderland experience\, complete with festive music\, sparkling lights\, and a warm community spirit. \n\n\n\nAll attendees will enjoy complimentary hot cocoa and a meet-and-greet Santa experience through their car windows.• The first 25 cars will receive a raffle ticket and a special thank-you from Santa.• The first 50 cars will receive random gift cards from local Carson City businesses\, generously donated to help us spark excitement and support local families. \n\n\n\nThis is a perfect\, family-friendly opportunity to show children how simple and meaningful it can be to give the gift of food during the holiday season. Roll down your windows\, say hello to Santa\, drop off your donation\, and enjoy the magic of giving together. \n\n\n\nLearn more: whyldfoundation.org \n\n\n\nEvent: Winter Wonderland Drive-Thru Food DonationHosted by: Whyld FoundationDate: Saturday\, December 13Time: 5:00 PM – 7:00 PMLocation: 1087 S. Carson Street\, Carson City\, NV (Entry point on Stewart Street) \n\n\n\n\n\n\n\n\n\n\n\n\n\n\n	Related
URL:https://www.carsonnow.org/event/winter-wonderland-drive-thru-food-drive-hosted-by-the-whyld-foundation
LOCATION:Whyld Beauty Co.\, 1087 S. Carson Street\, Carson City\, Nevada\, 89701\, United States
CATEGORIES:Carson City,Community,Fundraisers
ATTACH;FMTTYPE=image/jpeg:https://www.carsonnow.org/wp-content/uploads/2025/11/EFAE1F21-1582-42A0-8141-70C9EC08DC461.jpeg
END:VEVENT
END:VCALENDAR