BEGIN:VCALENDAR
VERSION:2.0
PRODID:-//Carson Now - ECPv6.15.20//NONSGML v1.0//EN
CALSCALE:GREGORIAN
METHOD:PUBLISH
X-ORIGINAL-URL:https://www.carsonnow.org
X-WR-CALDESC:Events for Carson Now
REFRESH-INTERVAL;VALUE=DURATION:PT1H
X-Robots-Tag:noindex
X-PUBLISHED-TTL:PT1H
BEGIN:VTIMEZONE
TZID:America/Los_Angeles
BEGIN:DAYLIGHT
TZOFFSETFROM:-0800
TZOFFSETTO:-0700
TZNAME:PDT
DTSTART:20270314T100000
END:DAYLIGHT
BEGIN:STANDARD
TZOFFSETFROM:-0700
TZOFFSETTO:-0800
TZNAME:PST
DTSTART:20271107T090000
END:STANDARD
BEGIN:DAYLIGHT
TZOFFSETFROM:-0800
TZOFFSETTO:-0700
TZNAME:PDT
DTSTART:20280312T100000
END:DAYLIGHT
BEGIN:STANDARD
TZOFFSETFROM:-0700
TZOFFSETTO:-0800
TZNAME:PST
DTSTART:20281105T090000
END:STANDARD
BEGIN:DAYLIGHT
TZOFFSETFROM:-0800
TZOFFSETTO:-0700
TZNAME:PDT
DTSTART:20290311T100000
END:DAYLIGHT
BEGIN:STANDARD
TZOFFSETFROM:-0700
TZOFFSETTO:-0800
TZNAME:PST
DTSTART:20291104T090000
END:STANDARD
END:VTIMEZONE
BEGIN:VEVENT
DTSTART;TZID=America/Los_Angeles:20281202T143000
DTEND;TZID=America/Los_Angeles:20281202T173000
DTSTAMP:20260424T022206
CREATED:20250131T012915Z
LAST-MODIFIED:20250131T012918Z
UID:10011171-1859380200-1859391000@www.carsonnow.org
SUMMARY:New Sewing Classes at the Carson City Community Center
DESCRIPTION:Hi I’m Shirley and I’m a sewing teacher. I will be teaching sewing at the Carson City Community Center starting February 1st. If you would like to learn how to sew\, register here: www.carson.org/ccpr I need students for the February 1 classes this Saturday. I have a Toddler class for 3-5 years and a Hand Sewing class for 6-13 years this Saturday. For low income students there is a scholarship available if qualified.
URL:https://www.carsonnow.org/event/new-sewing-classes-at-the-carson-city-community-center/2028-12-02
LOCATION:Carson City Community Center\, 851 E. William Street\, Carson City\, NV\, 89701\, United States
CATEGORIES:Carson City,Community,Education,Hobbies
ATTACH;FMTTYPE=image/jpeg:https://www.carsonnow.org/wp-content/uploads/2025/01/IMG_0398.jpeg
END:VEVENT
BEGIN:VEVENT
DTSTART;TZID=America/Los_Angeles:20281204T110000
DTEND;TZID=America/Los_Angeles:20281204T123000
DTSTAMP:20260424T022206
CREATED:20250128T204331Z
LAST-MODIFIED:20251119T010230Z
UID:10011038-1859540400-1859545800@www.carsonnow.org
SUMMARY:Carson City Ukulele Group
DESCRIPTION:The Carson City Ukulele Group practices every Monday from 11 to 12.30 at the Carson City Senior Ctr.\, Joshua Tree room. All levels are welcome. We would love to have singers join us!
URL:https://www.carsonnow.org/event/carson-city-ukulele-group/2028-12-04
LOCATION:Carson City Senior Center\, 911 Beverly Drive\, Carson City\, 89701\, United States
CATEGORIES:Carson City,Community,Hobbies,Music
ATTACH;FMTTYPE=image/webp:https://www.carsonnow.org/wp-content/uploads/2025/01/IMG_0389.webp
END:VEVENT
BEGIN:VEVENT
DTSTART;TZID=America/Los_Angeles:20281204T190000
DTEND;TZID=America/Los_Angeles:20281204T210000
DTSTAMP:20260424T022206
CREATED:20241204T183325Z
LAST-MODIFIED:20241204T183329Z
UID:10006990-1859569200-1859576400@www.carsonnow.org
SUMMARY:DJ Trivia at Reno Public Market
DESCRIPTION:Time & Location \n\n\n\n7:00 PM – 9:00 PM \n\n\n\nMondays and Thursdays \n\n\n\nReno Public Market\, 299 E Plumb Ln\, Reno\, NV 89502\, USA \n\n\n\nAbout the Event \n\n\n\nGet ready to test your smarts at DJ Trivia! Grab your friends and get ready to put your heads together for this team-based trivia night. We’ve got drinks flowing at the bar and all the good eats you could want while you rise to the challenge! We’ve got prizes for the top three teams\, so there’s more than just honor on the line. \n\n\n\nA special thanks to our hosts\, DJ Trivia Sierra Nevada! \n\n\n\nEvent Link -https://www.renopublicmarket.com/community-events
URL:https://www.carsonnow.org/event/dj-trivia-at-reno-public-market/2028-12-04
LOCATION:Nevada
CATEGORIES:Entertainment,Hobbies
ATTACH;FMTTYPE=image/jpeg:https://www.carsonnow.org/wp-content/uploads/2024/12/IMG_7319.jpeg
END:VEVENT
BEGIN:VEVENT
DTSTART;TZID=America/Los_Angeles:20281206T180000
DTEND;TZID=America/Los_Angeles:20281206T200000
DTSTAMP:20260424T022206
CREATED:20241024T184724Z
LAST-MODIFIED:20250111T180309Z
UID:10004559-1859738400-1859745600@www.carsonnow.org
SUMMARY:Board Game Night at 3 Arrows Games
DESCRIPTION:Join the Minden Board Game group and others for a weekly meet up of table top fun. Bring a game to share or jump in with others to learn something new for a night of fun. Everyone is welcome! \nWednesdays at 6:00pm
URL:https://www.carsonnow.org/event/board-game-night-at-3-arrows-games/2028-12-06
LOCATION:3 Arrows Games\, 4600 Snyder Ave Suite C\, Carson City\, 89701\, United States
CATEGORIES:Carson Valley,Hobbies
ATTACH;FMTTYPE=image/jpeg:https://www.carsonnow.org/wp-content/uploads/2024/10/IMG_0130.jpeg
END:VEVENT
BEGIN:VEVENT
DTSTART;TZID=America/Los_Angeles:20281207T180000
DTEND;TZID=America/Los_Angeles:20281207T200000
DTSTAMP:20260424T022206
CREATED:20260109T221853Z
LAST-MODIFIED:20260109T221856Z
UID:10039083-1859824800-1859832000@www.carsonnow.org
SUMMARY:PPI Improv Thursdays at the BAC
DESCRIPTION:Join us every Thursday at 6:00 PM in the Maizie Black Box Theater at the Brewery Arts Center (449 W King St\, Carson City\, NV) for an evening of creativity\, connection\, and comedy! \n\n\n\nWhether you’re a seasoned performer or totally new to the stage\, this is your space to: Learn improv techniques Play fun and fast-paced games Build confidence & communication skills Overcome stage fright in a supportive environment \n\n\n\nNo experience necessary—just bring your curiosity and sense of humor! \n\n\n\nFree to attend | Open to all | Weekly fun guaranteed
URL:https://www.carsonnow.org/event/ppi-improv-thursdays-at-the-bac/2028-12-07
LOCATION:Brewery Arts Center\, 449 W King St\, Carson City\, NV\, 89703\, United States
CATEGORIES:Carson City,Comedy,Education,Entertainment,Hobbies
ATTACH;FMTTYPE=image/png:https://www.carsonnow.org/wp-content/uploads/2026/01/IMG_1963.png
END:VEVENT
BEGIN:VEVENT
DTSTART;TZID=America/Los_Angeles:20281207T190000
DTEND;TZID=America/Los_Angeles:20281207T210000
DTSTAMP:20260424T022206
CREATED:20241204T183325Z
LAST-MODIFIED:20241204T183329Z
UID:10006991-1859828400-1859835600@www.carsonnow.org
SUMMARY:DJ Trivia at Reno Public Market
DESCRIPTION:Time & Location \n\n\n\n7:00 PM – 9:00 PM \n\n\n\nMondays and Thursdays \n\n\n\nReno Public Market\, 299 E Plumb Ln\, Reno\, NV 89502\, USA \n\n\n\nAbout the Event \n\n\n\nGet ready to test your smarts at DJ Trivia! Grab your friends and get ready to put your heads together for this team-based trivia night. We’ve got drinks flowing at the bar and all the good eats you could want while you rise to the challenge! We’ve got prizes for the top three teams\, so there’s more than just honor on the line. \n\n\n\nA special thanks to our hosts\, DJ Trivia Sierra Nevada! \n\n\n\nEvent Link -https://www.renopublicmarket.com/community-events
URL:https://www.carsonnow.org/event/dj-trivia-at-reno-public-market/2028-12-07
LOCATION:Nevada
CATEGORIES:Entertainment,Hobbies
ATTACH;FMTTYPE=image/jpeg:https://www.carsonnow.org/wp-content/uploads/2024/12/IMG_7319.jpeg
END:VEVENT
BEGIN:VEVENT
DTSTART;TZID=America/Los_Angeles:20281211T110000
DTEND;TZID=America/Los_Angeles:20281211T123000
DTSTAMP:20260424T022206
CREATED:20250128T204331Z
LAST-MODIFIED:20251119T010230Z
UID:10011039-1860145200-1860150600@www.carsonnow.org
SUMMARY:Carson City Ukulele Group
DESCRIPTION:The Carson City Ukulele Group practices every Monday from 11 to 12.30 at the Carson City Senior Ctr.\, Joshua Tree room. All levels are welcome. We would love to have singers join us!
URL:https://www.carsonnow.org/event/carson-city-ukulele-group/2028-12-11
LOCATION:Carson City Senior Center\, 911 Beverly Drive\, Carson City\, 89701\, United States
CATEGORIES:Carson City,Community,Hobbies,Music
ATTACH;FMTTYPE=image/webp:https://www.carsonnow.org/wp-content/uploads/2025/01/IMG_0389.webp
END:VEVENT
BEGIN:VEVENT
DTSTART;TZID=America/Los_Angeles:20281211T190000
DTEND;TZID=America/Los_Angeles:20281211T210000
DTSTAMP:20260424T022206
CREATED:20241204T183325Z
LAST-MODIFIED:20241204T183329Z
UID:10006992-1860174000-1860181200@www.carsonnow.org
SUMMARY:DJ Trivia at Reno Public Market
DESCRIPTION:Time & Location \n\n\n\n7:00 PM – 9:00 PM \n\n\n\nMondays and Thursdays \n\n\n\nReno Public Market\, 299 E Plumb Ln\, Reno\, NV 89502\, USA \n\n\n\nAbout the Event \n\n\n\nGet ready to test your smarts at DJ Trivia! Grab your friends and get ready to put your heads together for this team-based trivia night. We’ve got drinks flowing at the bar and all the good eats you could want while you rise to the challenge! We’ve got prizes for the top three teams\, so there’s more than just honor on the line. \n\n\n\nA special thanks to our hosts\, DJ Trivia Sierra Nevada! \n\n\n\nEvent Link -https://www.renopublicmarket.com/community-events
URL:https://www.carsonnow.org/event/dj-trivia-at-reno-public-market/2028-12-11
LOCATION:Nevada
CATEGORIES:Entertainment,Hobbies
ATTACH;FMTTYPE=image/jpeg:https://www.carsonnow.org/wp-content/uploads/2024/12/IMG_7319.jpeg
END:VEVENT
BEGIN:VEVENT
DTSTART;TZID=America/Los_Angeles:20281213T143000
DTEND;TZID=America/Los_Angeles:20281213T153000
DTSTAMP:20260424T022206
CREATED:20241024T191605Z
LAST-MODIFIED:20250111T180153Z
UID:10004994-1860330600-1860334200@www.carsonnow.org
SUMMARY:Carson City Dungeon Crawlers
DESCRIPTION:Join the Carson City High School Dungeon & Dragons group every other Wednesday at 2:30PM in the Teen Zone. Learn how to play Dungeons & Dragons and participate in fun campaigns! No registration required.
URL:https://www.carsonnow.org/event/carson-city-dungeon-crawlers/2028-12-13
LOCATION:Carson City Library\, 900 N Roop\, Carson City\, 89701\, United States
CATEGORIES:Carson City,Hobbies,Teen
ATTACH;FMTTYPE=image/png:https://www.carsonnow.org/wp-content/uploads/2024/10/IMG_0139.png
END:VEVENT
BEGIN:VEVENT
DTSTART;TZID=America/Los_Angeles:20281213T180000
DTEND;TZID=America/Los_Angeles:20281213T200000
DTSTAMP:20260424T022206
CREATED:20241024T184724Z
LAST-MODIFIED:20250111T180309Z
UID:10004560-1860343200-1860350400@www.carsonnow.org
SUMMARY:Board Game Night at 3 Arrows Games
DESCRIPTION:Join the Minden Board Game group and others for a weekly meet up of table top fun. Bring a game to share or jump in with others to learn something new for a night of fun. Everyone is welcome! \nWednesdays at 6:00pm
URL:https://www.carsonnow.org/event/board-game-night-at-3-arrows-games/2028-12-13
LOCATION:3 Arrows Games\, 4600 Snyder Ave Suite C\, Carson City\, 89701\, United States
CATEGORIES:Carson Valley,Hobbies
ATTACH;FMTTYPE=image/jpeg:https://www.carsonnow.org/wp-content/uploads/2024/10/IMG_0130.jpeg
END:VEVENT
BEGIN:VEVENT
DTSTART;TZID=America/Los_Angeles:20281214T180000
DTEND;TZID=America/Los_Angeles:20281214T200000
DTSTAMP:20260424T022206
CREATED:20260109T221853Z
LAST-MODIFIED:20260109T221856Z
UID:10039084-1860429600-1860436800@www.carsonnow.org
SUMMARY:PPI Improv Thursdays at the BAC
DESCRIPTION:Join us every Thursday at 6:00 PM in the Maizie Black Box Theater at the Brewery Arts Center (449 W King St\, Carson City\, NV) for an evening of creativity\, connection\, and comedy! \n\n\n\nWhether you’re a seasoned performer or totally new to the stage\, this is your space to: Learn improv techniques Play fun and fast-paced games Build confidence & communication skills Overcome stage fright in a supportive environment \n\n\n\nNo experience necessary—just bring your curiosity and sense of humor! \n\n\n\nFree to attend | Open to all | Weekly fun guaranteed
URL:https://www.carsonnow.org/event/ppi-improv-thursdays-at-the-bac/2028-12-14
LOCATION:Brewery Arts Center\, 449 W King St\, Carson City\, NV\, 89703\, United States
CATEGORIES:Carson City,Comedy,Education,Entertainment,Hobbies
ATTACH;FMTTYPE=image/png:https://www.carsonnow.org/wp-content/uploads/2026/01/IMG_1963.png
END:VEVENT
BEGIN:VEVENT
DTSTART;TZID=America/Los_Angeles:20281214T190000
DTEND;TZID=America/Los_Angeles:20281214T210000
DTSTAMP:20260424T022206
CREATED:20241204T183325Z
LAST-MODIFIED:20241204T183329Z
UID:10006993-1860433200-1860440400@www.carsonnow.org
SUMMARY:DJ Trivia at Reno Public Market
DESCRIPTION:Time & Location \n\n\n\n7:00 PM – 9:00 PM \n\n\n\nMondays and Thursdays \n\n\n\nReno Public Market\, 299 E Plumb Ln\, Reno\, NV 89502\, USA \n\n\n\nAbout the Event \n\n\n\nGet ready to test your smarts at DJ Trivia! Grab your friends and get ready to put your heads together for this team-based trivia night. We’ve got drinks flowing at the bar and all the good eats you could want while you rise to the challenge! We’ve got prizes for the top three teams\, so there’s more than just honor on the line. \n\n\n\nA special thanks to our hosts\, DJ Trivia Sierra Nevada! \n\n\n\nEvent Link -https://www.renopublicmarket.com/community-events
URL:https://www.carsonnow.org/event/dj-trivia-at-reno-public-market/2028-12-14
LOCATION:Nevada
CATEGORIES:Entertainment,Hobbies
ATTACH;FMTTYPE=image/jpeg:https://www.carsonnow.org/wp-content/uploads/2024/12/IMG_7319.jpeg
END:VEVENT
BEGIN:VEVENT
DTSTART;TZID=America/Los_Angeles:20281217T173000
DTEND;TZID=America/Los_Angeles:20281217T190000
DTSTAMP:20260424T022206
CREATED:20250407T215027Z
LAST-MODIFIED:20250407T215031Z
UID:10016222-1860687000-1860692400@www.carsonnow.org
SUMMARY:Learn to Sketch!
DESCRIPTION:5:30 pm – 7:00 pm$30.00 \n\n\n\nIn this class you’ll learn about problem-solving through art\, as well as how to draw with instructor Kaleb Wyckoff. Whether you can sketch a stick figure or a portrait\, this class is for you! All skill levels are welcome. Every class is different and designed to strive for accessibility. Classes focus on stand alone lessons\, meaning you can join at any time without being behind.All materials included. Arrive through the 2nd Street entrance. \n\n\n\nGet tickets:https://breweryarts.org/event/20250427-sketch/Name will be added to class list\, no printed ticket needed. Online registration closes 1 hour before class. \n\n\n\nBrewery Arts Center | South Building | Drawing Studio449 W KING STCARSON CITY
URL:https://www.carsonnow.org/event/learn-to-sketch-2/2028-12-17
LOCATION:Brewery Arts Center\, 449 W King St\, Carson City\, NV\, 89703\, United States
CATEGORIES:Arts & Crafts,Carson City,Education,Hobbies
ATTACH;FMTTYPE=image/jpeg:https://www.carsonnow.org/wp-content/uploads/2025/04/IMG_0332.jpeg
END:VEVENT
BEGIN:VEVENT
DTSTART;TZID=America/Los_Angeles:20281218T110000
DTEND;TZID=America/Los_Angeles:20281218T123000
DTSTAMP:20260424T022206
CREATED:20250128T204331Z
LAST-MODIFIED:20251119T010230Z
UID:10011040-1860750000-1860755400@www.carsonnow.org
SUMMARY:Carson City Ukulele Group
DESCRIPTION:The Carson City Ukulele Group practices every Monday from 11 to 12.30 at the Carson City Senior Ctr.\, Joshua Tree room. All levels are welcome. We would love to have singers join us!
URL:https://www.carsonnow.org/event/carson-city-ukulele-group/2028-12-18
LOCATION:Carson City Senior Center\, 911 Beverly Drive\, Carson City\, 89701\, United States
CATEGORIES:Carson City,Community,Hobbies,Music
ATTACH;FMTTYPE=image/webp:https://www.carsonnow.org/wp-content/uploads/2025/01/IMG_0389.webp
END:VEVENT
BEGIN:VEVENT
DTSTART;TZID=America/Los_Angeles:20281218T190000
DTEND;TZID=America/Los_Angeles:20281218T210000
DTSTAMP:20260424T022206
CREATED:20241204T183325Z
LAST-MODIFIED:20241204T183329Z
UID:10006994-1860778800-1860786000@www.carsonnow.org
SUMMARY:DJ Trivia at Reno Public Market
DESCRIPTION:Time & Location \n\n\n\n7:00 PM – 9:00 PM \n\n\n\nMondays and Thursdays \n\n\n\nReno Public Market\, 299 E Plumb Ln\, Reno\, NV 89502\, USA \n\n\n\nAbout the Event \n\n\n\nGet ready to test your smarts at DJ Trivia! Grab your friends and get ready to put your heads together for this team-based trivia night. We’ve got drinks flowing at the bar and all the good eats you could want while you rise to the challenge! We’ve got prizes for the top three teams\, so there’s more than just honor on the line. \n\n\n\nA special thanks to our hosts\, DJ Trivia Sierra Nevada! \n\n\n\nEvent Link -https://www.renopublicmarket.com/community-events
URL:https://www.carsonnow.org/event/dj-trivia-at-reno-public-market/2028-12-18
LOCATION:Nevada
CATEGORIES:Entertainment,Hobbies
ATTACH;FMTTYPE=image/jpeg:https://www.carsonnow.org/wp-content/uploads/2024/12/IMG_7319.jpeg
END:VEVENT
BEGIN:VEVENT
DTSTART;TZID=America/Los_Angeles:20281219T133000
DTEND;TZID=America/Los_Angeles:20281219T160000
DTSTAMP:20260424T022206
CREATED:20250303T222947Z
LAST-MODIFIED:20250303T222950Z
UID:10012956-1860845400-1860854400@www.carsonnow.org
SUMMARY:Carson City Emblem Club Bunko
DESCRIPTION:Come join us onTUESDAY\, MARCH 18\, 2025Doors open at 1:30pm –Game starts at 2:00pmat the Carson City Elks Lodge515 N. Nevada St.Entry Fee $5.00 – Fund RaiserMonies Raised will go to Service Animals & Safe Grad NightPlaying three games for prizesWater and snacks providedWine\, Beer and Soda will be sold at the Elks BarPrizes will be awarded for the following:Most Buncos – Most wins – Most Losses – Who has the Fuzzy at the end ofthe gamePLEASE CALL FOR RESERVATIONS OR MORE INFO – CONTACTSHARON AT 775-246- 1630Come out and have a fun evening and meet new friend
URL:https://www.carsonnow.org/event/carson-city-emblem-club-bunko/2028-12-19
LOCATION:Elks Lodge #2177\, 515 N Nevada St\, Carson City\, 89703\, United States
CATEGORIES:Carson City,Clubs,Entertainment,Fundraisers,Hobbies
ATTACH;FMTTYPE=image/jpeg:https://www.carsonnow.org/wp-content/uploads/2025/03/IMG_9782.jpeg
END:VEVENT
BEGIN:VEVENT
DTSTART;TZID=America/Los_Angeles:20281220T180000
DTEND;TZID=America/Los_Angeles:20281220T200000
DTSTAMP:20260424T022206
CREATED:20241024T184724Z
LAST-MODIFIED:20250111T180309Z
UID:10004561-1860948000-1860955200@www.carsonnow.org
SUMMARY:Board Game Night at 3 Arrows Games
DESCRIPTION:Join the Minden Board Game group and others for a weekly meet up of table top fun. Bring a game to share or jump in with others to learn something new for a night of fun. Everyone is welcome! \nWednesdays at 6:00pm
URL:https://www.carsonnow.org/event/board-game-night-at-3-arrows-games/2028-12-20
LOCATION:3 Arrows Games\, 4600 Snyder Ave Suite C\, Carson City\, 89701\, United States
CATEGORIES:Carson Valley,Hobbies
ATTACH;FMTTYPE=image/jpeg:https://www.carsonnow.org/wp-content/uploads/2024/10/IMG_0130.jpeg
END:VEVENT
BEGIN:VEVENT
DTSTART;TZID=America/Los_Angeles:20281221T180000
DTEND;TZID=America/Los_Angeles:20281221T200000
DTSTAMP:20260424T022206
CREATED:20260109T221853Z
LAST-MODIFIED:20260109T221856Z
UID:10039085-1861034400-1861041600@www.carsonnow.org
SUMMARY:PPI Improv Thursdays at the BAC
DESCRIPTION:Join us every Thursday at 6:00 PM in the Maizie Black Box Theater at the Brewery Arts Center (449 W King St\, Carson City\, NV) for an evening of creativity\, connection\, and comedy! \n\n\n\nWhether you’re a seasoned performer or totally new to the stage\, this is your space to: Learn improv techniques Play fun and fast-paced games Build confidence & communication skills Overcome stage fright in a supportive environment \n\n\n\nNo experience necessary—just bring your curiosity and sense of humor! \n\n\n\nFree to attend | Open to all | Weekly fun guaranteed
URL:https://www.carsonnow.org/event/ppi-improv-thursdays-at-the-bac/2028-12-21
LOCATION:Brewery Arts Center\, 449 W King St\, Carson City\, NV\, 89703\, United States
CATEGORIES:Carson City,Comedy,Education,Entertainment,Hobbies
ATTACH;FMTTYPE=image/png:https://www.carsonnow.org/wp-content/uploads/2026/01/IMG_1963.png
END:VEVENT
BEGIN:VEVENT
DTSTART;TZID=America/Los_Angeles:20281221T190000
DTEND;TZID=America/Los_Angeles:20281221T210000
DTSTAMP:20260424T022206
CREATED:20241204T183325Z
LAST-MODIFIED:20241204T183329Z
UID:10006995-1861038000-1861045200@www.carsonnow.org
SUMMARY:DJ Trivia at Reno Public Market
DESCRIPTION:Time & Location \n\n\n\n7:00 PM – 9:00 PM \n\n\n\nMondays and Thursdays \n\n\n\nReno Public Market\, 299 E Plumb Ln\, Reno\, NV 89502\, USA \n\n\n\nAbout the Event \n\n\n\nGet ready to test your smarts at DJ Trivia! Grab your friends and get ready to put your heads together for this team-based trivia night. We’ve got drinks flowing at the bar and all the good eats you could want while you rise to the challenge! We’ve got prizes for the top three teams\, so there’s more than just honor on the line. \n\n\n\nA special thanks to our hosts\, DJ Trivia Sierra Nevada! \n\n\n\nEvent Link -https://www.renopublicmarket.com/community-events
URL:https://www.carsonnow.org/event/dj-trivia-at-reno-public-market/2028-12-21
LOCATION:Nevada
CATEGORIES:Entertainment,Hobbies
ATTACH;FMTTYPE=image/jpeg:https://www.carsonnow.org/wp-content/uploads/2024/12/IMG_7319.jpeg
END:VEVENT
BEGIN:VEVENT
DTSTART;TZID=America/Los_Angeles:20281225T110000
DTEND;TZID=America/Los_Angeles:20281225T123000
DTSTAMP:20260424T022206
CREATED:20250128T204331Z
LAST-MODIFIED:20251119T010230Z
UID:10011041-1861354800-1861360200@www.carsonnow.org
SUMMARY:Carson City Ukulele Group
DESCRIPTION:The Carson City Ukulele Group practices every Monday from 11 to 12.30 at the Carson City Senior Ctr.\, Joshua Tree room. All levels are welcome. We would love to have singers join us!
URL:https://www.carsonnow.org/event/carson-city-ukulele-group/2028-12-25
LOCATION:Carson City Senior Center\, 911 Beverly Drive\, Carson City\, 89701\, United States
CATEGORIES:Carson City,Community,Hobbies,Music
ATTACH;FMTTYPE=image/webp:https://www.carsonnow.org/wp-content/uploads/2025/01/IMG_0389.webp
END:VEVENT
BEGIN:VEVENT
DTSTART;TZID=America/Los_Angeles:20281225T190000
DTEND;TZID=America/Los_Angeles:20281225T210000
DTSTAMP:20260424T022206
CREATED:20241204T183325Z
LAST-MODIFIED:20241204T183329Z
UID:10006996-1861383600-1861390800@www.carsonnow.org
SUMMARY:DJ Trivia at Reno Public Market
DESCRIPTION:Time & Location \n\n\n\n7:00 PM – 9:00 PM \n\n\n\nMondays and Thursdays \n\n\n\nReno Public Market\, 299 E Plumb Ln\, Reno\, NV 89502\, USA \n\n\n\nAbout the Event \n\n\n\nGet ready to test your smarts at DJ Trivia! Grab your friends and get ready to put your heads together for this team-based trivia night. We’ve got drinks flowing at the bar and all the good eats you could want while you rise to the challenge! We’ve got prizes for the top three teams\, so there’s more than just honor on the line. \n\n\n\nA special thanks to our hosts\, DJ Trivia Sierra Nevada! \n\n\n\nEvent Link -https://www.renopublicmarket.com/community-events
URL:https://www.carsonnow.org/event/dj-trivia-at-reno-public-market/2028-12-25
LOCATION:Nevada
CATEGORIES:Entertainment,Hobbies
ATTACH;FMTTYPE=image/jpeg:https://www.carsonnow.org/wp-content/uploads/2024/12/IMG_7319.jpeg
END:VEVENT
BEGIN:VEVENT
DTSTART;TZID=America/Los_Angeles:20281227T143000
DTEND;TZID=America/Los_Angeles:20281227T153000
DTSTAMP:20260424T022206
CREATED:20241024T191605Z
LAST-MODIFIED:20250111T180153Z
UID:10004995-1861540200-1861543800@www.carsonnow.org
SUMMARY:Carson City Dungeon Crawlers
DESCRIPTION:Join the Carson City High School Dungeon & Dragons group every other Wednesday at 2:30PM in the Teen Zone. Learn how to play Dungeons & Dragons and participate in fun campaigns! No registration required.
URL:https://www.carsonnow.org/event/carson-city-dungeon-crawlers/2028-12-27
LOCATION:Carson City Library\, 900 N Roop\, Carson City\, 89701\, United States
CATEGORIES:Carson City,Hobbies,Teen
ATTACH;FMTTYPE=image/png:https://www.carsonnow.org/wp-content/uploads/2024/10/IMG_0139.png
END:VEVENT
BEGIN:VEVENT
DTSTART;TZID=America/Los_Angeles:20281227T180000
DTEND;TZID=America/Los_Angeles:20281227T200000
DTSTAMP:20260424T022206
CREATED:20241024T184724Z
LAST-MODIFIED:20250111T180309Z
UID:10004562-1861552800-1861560000@www.carsonnow.org
SUMMARY:Board Game Night at 3 Arrows Games
DESCRIPTION:Join the Minden Board Game group and others for a weekly meet up of table top fun. Bring a game to share or jump in with others to learn something new for a night of fun. Everyone is welcome! \nWednesdays at 6:00pm
URL:https://www.carsonnow.org/event/board-game-night-at-3-arrows-games/2028-12-27
LOCATION:3 Arrows Games\, 4600 Snyder Ave Suite C\, Carson City\, 89701\, United States
CATEGORIES:Carson Valley,Hobbies
ATTACH;FMTTYPE=image/jpeg:https://www.carsonnow.org/wp-content/uploads/2024/10/IMG_0130.jpeg
END:VEVENT
BEGIN:VEVENT
DTSTART;TZID=America/Los_Angeles:20281228T180000
DTEND;TZID=America/Los_Angeles:20281228T200000
DTSTAMP:20260424T022206
CREATED:20260109T221853Z
LAST-MODIFIED:20260109T221856Z
UID:10039086-1861639200-1861646400@www.carsonnow.org
SUMMARY:PPI Improv Thursdays at the BAC
DESCRIPTION:Join us every Thursday at 6:00 PM in the Maizie Black Box Theater at the Brewery Arts Center (449 W King St\, Carson City\, NV) for an evening of creativity\, connection\, and comedy! \n\n\n\nWhether you’re a seasoned performer or totally new to the stage\, this is your space to: Learn improv techniques Play fun and fast-paced games Build confidence & communication skills Overcome stage fright in a supportive environment \n\n\n\nNo experience necessary—just bring your curiosity and sense of humor! \n\n\n\nFree to attend | Open to all | Weekly fun guaranteed
URL:https://www.carsonnow.org/event/ppi-improv-thursdays-at-the-bac/2028-12-28
LOCATION:Brewery Arts Center\, 449 W King St\, Carson City\, NV\, 89703\, United States
CATEGORIES:Carson City,Comedy,Education,Entertainment,Hobbies
ATTACH;FMTTYPE=image/png:https://www.carsonnow.org/wp-content/uploads/2026/01/IMG_1963.png
END:VEVENT
BEGIN:VEVENT
DTSTART;TZID=America/Los_Angeles:20281228T190000
DTEND;TZID=America/Los_Angeles:20281228T210000
DTSTAMP:20260424T022206
CREATED:20241204T183325Z
LAST-MODIFIED:20241204T183329Z
UID:10006997-1861642800-1861650000@www.carsonnow.org
SUMMARY:DJ Trivia at Reno Public Market
DESCRIPTION:Time & Location \n\n\n\n7:00 PM – 9:00 PM \n\n\n\nMondays and Thursdays \n\n\n\nReno Public Market\, 299 E Plumb Ln\, Reno\, NV 89502\, USA \n\n\n\nAbout the Event \n\n\n\nGet ready to test your smarts at DJ Trivia! Grab your friends and get ready to put your heads together for this team-based trivia night. We’ve got drinks flowing at the bar and all the good eats you could want while you rise to the challenge! We’ve got prizes for the top three teams\, so there’s more than just honor on the line. \n\n\n\nA special thanks to our hosts\, DJ Trivia Sierra Nevada! \n\n\n\nEvent Link -https://www.renopublicmarket.com/community-events
URL:https://www.carsonnow.org/event/dj-trivia-at-reno-public-market/2028-12-28
LOCATION:Nevada
CATEGORIES:Entertainment,Hobbies
ATTACH;FMTTYPE=image/jpeg:https://www.carsonnow.org/wp-content/uploads/2024/12/IMG_7319.jpeg
END:VEVENT
END:VCALENDAR