BEGIN:VCALENDAR
VERSION:2.0
PRODID:-//Carson Now - ECPv6.15.20//NONSGML v1.0//EN
CALSCALE:GREGORIAN
METHOD:PUBLISH
X-ORIGINAL-URL:https://www.carsonnow.org
X-WR-CALDESC:Events for Carson Now
REFRESH-INTERVAL;VALUE=DURATION:PT1H
X-Robots-Tag:noindex
X-PUBLISHED-TTL:PT1H
BEGIN:VTIMEZONE
TZID:America/Los_Angeles
BEGIN:DAYLIGHT
TZOFFSETFROM:-0800
TZOFFSETTO:-0700
TZNAME:PDT
DTSTART:20250309T100000
END:DAYLIGHT
BEGIN:STANDARD
TZOFFSETFROM:-0700
TZOFFSETTO:-0800
TZNAME:PST
DTSTART:20251102T090000
END:STANDARD
BEGIN:DAYLIGHT
TZOFFSETFROM:-0800
TZOFFSETTO:-0700
TZNAME:PDT
DTSTART:20260308T100000
END:DAYLIGHT
BEGIN:STANDARD
TZOFFSETFROM:-0700
TZOFFSETTO:-0800
TZNAME:PST
DTSTART:20261101T090000
END:STANDARD
BEGIN:DAYLIGHT
TZOFFSETFROM:-0800
TZOFFSETTO:-0700
TZNAME:PDT
DTSTART:20270314T100000
END:DAYLIGHT
BEGIN:STANDARD
TZOFFSETFROM:-0700
TZOFFSETTO:-0800
TZNAME:PST
DTSTART:20271107T090000
END:STANDARD
END:VTIMEZONE
BEGIN:VEVENT
DTSTART;TZID=America/Los_Angeles:20260502T100000
DTEND;TZID=America/Los_Angeles:20260502T160000
DTSTAMP:20260419T141538
CREATED:20260116T201141Z
LAST-MODIFIED:20260116T201143Z
UID:10039289-1777716000-1777737600@www.carsonnow.org
SUMMARY:Mother’s Day Craft Fair 2026
DESCRIPTION:Shop local for Mom at the 11th Annual Mother’s Day Craft Fair!Saturday\, May 2nd 10AM-4PMInside of the Carson City Community CenterEnjoy shopping from over 60+ local & unique Artisans\, Crafters\, Businesses\, & Local Representatives.Join the Raffle to help us raise money for Families in need.LOOKING FOR VENDORS! LIMITED SPACES!Booth fees per event date:$85 10X10 Booth$95 10X10 Corner BoothElectric is $10(Electric is very limited)Please email us @ nnvhotspot@gmail.com if you are interested in being a vendor. Thanks!Thanks! ~Northern Nevada HotSpotFacebook Event Link:https://www.facebook.com/events/1928288984492135/
URL:https://www.carsonnow.org/event/mothers-day-craft-fair-2026
LOCATION:Carson City Community Center\, 851 E. William Street\, Carson City\, NV\, 89701\, United States
CATEGORIES:Carson City,Community,Craft Fairs,Entertainment,Shopping
ATTACH;FMTTYPE=image/png:https://www.carsonnow.org/wp-content/uploads/2026/01/IMG_1986.png
END:VEVENT
BEGIN:VEVENT
DTSTART;TZID=America/Los_Angeles:20260509T100000
DTEND;TZID=America/Los_Angeles:20260509T160000
DTSTAMP:20260419T141538
CREATED:20260224T212947Z
LAST-MODIFIED:20260224T212950Z
UID:10041424-1778320800-1778342400@www.carsonnow.org
SUMMARY:Carson Mall Hosts Mother’s Day Weekend Celebration May 9th & 10th
DESCRIPTION:**Carson City\, NV** – Carson Mall is excited to announce its upcoming **Mother’s Day Weekend Celebration**\, happening **May 9th and 10th from 10:00 AM to 4:00 PM**. This vibrant\, floral-themed community event invites families to shop\, create\, and celebrate the amazing moms in their lives. \n\n\n\nThe two-day celebration will transform Carson Mall into a spring-inspired marketplace filled with flowers\, crafts\, unique gifts\, and local vendors. Admission is **free**\, making it the perfect opportunity for families to enjoy a fun and festive weekend together. \n\n\n\nEvent Highlights Include: \n\n\n\n*  \n\n\n\n\n\n\n\n Weekend craft activities*  \n\n\n\n\n\n\n\n Unique and handmade gifts for Mom*  \n\n\n\n\n\n\n\n Spring décor and floral vibes throughout the mall*  \n\n\n\n\n\n\n\n Mom’s raffle and special giveaways*  \n\n\n\n\n\n\n\n Snacks and sweet treats*  \n\n\n\n\n\n\n\n Local vendors and small businesses \n\n\n\n“This event is all about bringing families together and supporting our local small business community\,” said Chelsea Lavender. “We want to create a welcoming space where people can shop local\, make memories\, and truly celebrate the moms who mean so much to us.” \n\n\n\nVendors Wanted \n\n\n\nCarson Mall is currently seeking local vendors and small businesses interested in participating. This is a great opportunity to showcase products just in time for Mother’s Day shopping. Applications are available online at: \n\n\n\n\n\n\n\nhttps://forms.gle/697E79epivueVs3R8 \n\n\n\nWhether you’re looking for the perfect gift\, a fun craft experience\, or simply a way to enjoy the weekend with family\, Carson Mall’s Mother’s Day Weekend Celebration promises something special for everyone. \n\n\n\n**Bring Mom. Shop Local. Make Memories.** \n\n\n\nFor more information\, vendor inquiries\, or sponsorship opportunities\, please contact Chelsea Lavender.775-671-0003
URL:https://www.carsonnow.org/event/carson-mall-hosts-mothers-day-weekend-celebration-may-9th-10th/2026-05-09
LOCATION:Carson Mall\, 1313 S Carson Street\, Carson City\, Nevada\, 89701\, United States
CATEGORIES:Carson City,Community,Craft Fairs,Food & Wine,Mother’s Day,Shopping
ATTACH;FMTTYPE=image/png:https://www.carsonnow.org/wp-content/uploads/2026/02/IMG_2229.png
END:VEVENT
BEGIN:VEVENT
DTSTART;TZID=America/Los_Angeles:20261003T100000
DTEND;TZID=America/Los_Angeles:20261003T160000
DTSTAMP:20260419T141538
CREATED:20260116T201439Z
LAST-MODIFIED:20260116T201441Z
UID:10039555-1791021600-1791043200@www.carsonnow.org
SUMMARY:Fall Is In The Air Craft Fair
DESCRIPTION:Shop Local\, Support Local at the Fall Is In The Air Craft Fair!Saturday\, October 3rd 10AM-4PMInside of the Carson City Community Center Shop from our Amazing Vendors for your chance to WIN the Golden Ticket worth $100! Enjoy shopping from over 60+ local & unique Artisans\, Crafters\, Businesses\, & Local Representatives.Join the Raffle! All Raffle Proceeds benefit Beanies & Coats for kids in need.LOOKING FOR VENDORS! LIMITED SPACES!Booth fees per event date:$85 10X10 Booth$95 10X10 Corner BoothElectric is $10(Electric is very limited)Sales Trailer $115Food Truck/Trailer $125Please email us @ nnvhotspot@gmail.com if you are interested in being a vendor. Thanks!Fall Is In The Air Craft Fair Facebook Event Link:https://www.facebook.com/events/1415938830051325/#NNVHotSpot #fallisintheair #craftfair #events #northernnevada
URL:https://www.carsonnow.org/event/fall-is-in-the-air-craft-fair
LOCATION:Carson City Community Center\, 851 E. William Street\, Carson City\, NV\, 89701\, United States
CATEGORIES:Carson City,Community,Craft Fairs,Entertainment,Shopping
ATTACH;FMTTYPE=image/png:https://www.carsonnow.org/wp-content/uploads/2026/01/IMG_1987.png
END:VEVENT
BEGIN:VEVENT
DTSTART;TZID=America/Los_Angeles:20261121T100000
DTEND;TZID=America/Los_Angeles:20261121T160000
DTSTAMP:20260419T141538
CREATED:20260116T203357Z
LAST-MODIFIED:20260116T203358Z
UID:10039556-1795255200-1795276800@www.carsonnow.org
SUMMARY:Christmas Craft Fair November 21st\, December 5th & 12th\, 2026
DESCRIPTION:We are so excited for the 11th Annual Carson Christmas Craft Fairs!Inside of the Carson City Community CenterEnjoy Christmas shopping from over 60+ local & unique Artisans\, Crafters\, Businesses\, & Local Representatives.Join the Raffle to help us raise money for Families in need during the Holiday Season. All Raffle Proceeds benefit FISH (Friends In Service Helping) and their Holiday Food Bank. We have 3 Shopping Dates! Be sure to check out all 3 Shopping dates as each event will have a wide variety of Local Vendors!Saturday\, November 21st from 10am-4pmSaturday\, December 5th from 10am-4pmSaturday\, December 12th from 10am-4pmLOOKING FOR VENDORS! LIMITED SPACES!Booth fees per event date:$115 10X10 Booth$125 10X10 Corner BoothElectric is $10 (Electric is very limited)Please email us @ nnvhotspot@gmail.com if you are interested in being a vendor. Thanks!Facebook Event Link:
URL:https://www.carsonnow.org/event/christmas-craft-fair-november-21st-december-5th-12th-2026/2026-11-21
LOCATION:Carson City Community Center\, 851 E. William Street\, Carson City\, NV\, 89701\, United States
CATEGORIES:Carson City,Christmas,Community,Craft Fairs,Entertainment,Shopping
ATTACH;FMTTYPE=image/png:https://www.carsonnow.org/wp-content/uploads/2026/01/IMG_1988.png
END:VEVENT
END:VCALENDAR