BEGIN:VCALENDAR
VERSION:2.0
PRODID:-//Carson Now - ECPv6.15.20//NONSGML v1.0//EN
CALSCALE:GREGORIAN
METHOD:PUBLISH
X-WR-CALNAME:Carson Now
X-ORIGINAL-URL:https://www.carsonnow.org
X-WR-CALDESC:Events for Carson Now
REFRESH-INTERVAL;VALUE=DURATION:PT1H
X-Robots-Tag:noindex
X-PUBLISHED-TTL:PT1H
BEGIN:VTIMEZONE
TZID:America/Los_Angeles
BEGIN:DAYLIGHT
TZOFFSETFROM:-0800
TZOFFSETTO:-0700
TZNAME:PDT
DTSTART:20250309T100000
END:DAYLIGHT
BEGIN:STANDARD
TZOFFSETFROM:-0700
TZOFFSETTO:-0800
TZNAME:PST
DTSTART:20251102T090000
END:STANDARD
BEGIN:DAYLIGHT
TZOFFSETFROM:-0800
TZOFFSETTO:-0700
TZNAME:PDT
DTSTART:20260308T100000
END:DAYLIGHT
BEGIN:STANDARD
TZOFFSETFROM:-0700
TZOFFSETTO:-0800
TZNAME:PST
DTSTART:20261101T090000
END:STANDARD
BEGIN:DAYLIGHT
TZOFFSETFROM:-0800
TZOFFSETTO:-0700
TZNAME:PDT
DTSTART:20270314T100000
END:DAYLIGHT
BEGIN:STANDARD
TZOFFSETFROM:-0700
TZOFFSETTO:-0800
TZNAME:PST
DTSTART:20271107T090000
END:STANDARD
END:VTIMEZONE
BEGIN:VEVENT
DTSTART;TZID=America/Los_Angeles:20260421T090000
DTEND;TZID=America/Los_Angeles:20260421T103000
DTSTAMP:20260421T073434
CREATED:20260217T221601Z
LAST-MODIFIED:20260217T221940Z
UID:10040975-1776762000-1776767400@www.carsonnow.org
SUMMARY:CONNECTIONS at Comma Coffee every Tuesday and Friday
DESCRIPTION:Come Join the Conversation! \n\n\n\nMeet new people\, have fun\, and feel inspired. \n\n\n\nCONNECTIONS brings people together from all walks of life and all ages to hear and share life stories\, engage in conversation\, and learn from the experiences of one another.  \n\n\n\nYou can share a story or just sit and listen. \n\n\n\nAll are welcome. There is no cost and no sign up required.  \n\n\n\nLearn more about CONNECTIONS and our events here: \n\n\n\nhttps://www.connectionscentral.org \n\n\n\nhttps://www.connectionscentral.org/events
URL:https://www.carsonnow.org/event/connections-at-comma-coffee-every-tuesday-and-friday/2026-04-21
LOCATION:Comma Coffee\, 312 S Carson Street\, Carson City\, Nevada\, 89703\, United States
CATEGORIES:Carson City,Community,Networking
ATTACH;FMTTYPE=image/jpeg:https://www.carsonnow.org/wp-content/uploads/2026/02/IMG_2199.jpeg
END:VEVENT
BEGIN:VEVENT
DTSTART;TZID=America/Los_Angeles:20260421T090000
DTEND;TZID=America/Los_Angeles:20260421T120000
DTSTAMP:20260421T073434
CREATED:20260217T212248Z
LAST-MODIFIED:20260217T212250Z
UID:10040791-1776762000-1776772800@www.carsonnow.org
SUMMARY:Sunridge Women’s Golf Club
DESCRIPTION:Sunridge Golf Club has a thriving Women’s Club. We play 18 holes on Tuesday mornings between April and October. The cost to join for 2026 is $45 plus GHIN fees unless you are already a member of another club in which case the GHIN fee is excluded. The weekly cost is $45 for green fees and $5 for the game prizes. We have small cash prizes for weekly winners in the form of a credit on a Sunridge gift card.  \n\n\n\nBesides the lower green fees for the play days club member and one friend can play for the reduced green fee of $45 throughout the season and there is a 5% cash back credit for every dollar spent. \n\n\n\nIf you are interested in joining a fun women’s club to meet new women golfers\, or to have a place for you and your friends to gather on a weekly basis\, call Carli at (310) 463 6398 or our Pro Shop at (775) 267-4448 to sign up.
URL:https://www.carsonnow.org/event/sunridge-womens-golf-club/2026-04-21
LOCATION:Nevada
CATEGORIES:Carson City,Clubs,Golf,Hobbies,Sports
ATTACH;FMTTYPE=image/jpeg:https://www.carsonnow.org/wp-content/uploads/2026/02/IMG_2186-scaled.jpeg
END:VEVENT
BEGIN:VEVENT
DTSTART;TZID=America/Los_Angeles:20260421T100000
DTEND;TZID=America/Los_Angeles:20260421T180000
DTSTAMP:20260421T073434
CREATED:20260331T222853Z
LAST-MODIFIED:20260331T222855Z
UID:10042342-1776765600-1776794400@www.carsonnow.org
SUMMARY:April Events at Wiley’s Wellness Sanctuary
DESCRIPTION:Our April calendar has arrived—intentionally curated experiences designed to support your healing\, elevate your energy\, and reconnect you to what matters most. From workshops to sound baths and community gatherings\, each offering is created to meet you exactly where you are.
URL:https://www.carsonnow.org/event/april-events-at-wileys-wellness-sanctuary/2026-04-21
LOCATION:Wiley’s Wellness Sanctuary\, 1049 S Carson Street\, Carson City\, Nevada\, 89703\, United States
CATEGORIES:Carson City,Health & Wellness
ATTACH;FMTTYPE=image/jpeg:https://www.carsonnow.org/wp-content/uploads/2026/03/IMG_2435.jpeg
END:VEVENT
BEGIN:VEVENT
DTSTART;TZID=America/Los_Angeles:20260421T103000
DTEND;TZID=America/Los_Angeles:20260421T111500
DTSTAMP:20260421T073434
CREATED:20260318T193158Z
LAST-MODIFIED:20260318T193201Z
UID:10041997-1776767400-1776770100@www.carsonnow.org
SUMMARY:Baby Bookworms Storytime every Tuesday at the Carson City Library
DESCRIPTION:For kids ages 0-24 months: Join us for weekly stories\, songs and structured free play time! \n\n\n\nParticipants 9 and younger must be accompanied by a caregiver who is at least 13 years old at all times. \n\n\n\nNo registration is required.
URL:https://www.carsonnow.org/event/baby-bookworms-storytime-every-tuesday-at-the-carson-city-library/2026-04-21
LOCATION:Carson City Library\, 900 N Roop\, Carson City\, 89701\, United States
CATEGORIES:Book Events,Carson City,Children’s Events,Community,Entertainment
ATTACH;FMTTYPE=image/png:https://www.carsonnow.org/wp-content/uploads/2026/03/IMG_2362.png
END:VEVENT
BEGIN:VEVENT
DTSTART;TZID=America/Los_Angeles:20260421T120000
DTEND;TZID=America/Los_Angeles:20260421T160000
DTSTAMP:20260421T073434
CREATED:20260330T223204Z
LAST-MODIFIED:20260330T223525Z
UID:10042228-1776772800-1776787200@www.carsonnow.org
SUMMARY:Nevada Artists Association presents the Spring 2026 Student Art Show
DESCRIPTION:Art students from Carson\, Dayton\, Douglas\, and Whittell High Schools have contributed 69 entries in the Spring 2026 High School Student Art Exhibition at the Nevada Artists Association Gallery. This inaugural show highlights work created by high school art students offering them the opportunity to present their artwork in a professional gallery setting while inviting the broader community to celebrate their creativity and achievement. \n\n\n\nSpring 2026\, a Nevada Artists Association sponsored student art exhibition\, will be on display March 28th – May 8th at the Nevada Artists Association Gallery located at 449 West King Street\, Carson City\, NV 89703. The hours are Tuesday – Sunday\, 12pm – 4pm.  \n\n\n\nThe exhibition features a wide variety of art including ceramics\, mixed media\, drawing\, and painting.
URL:https://www.carsonnow.org/event/nevada-artists-association-presents-the-spring-2026-student-art-show/2026-04-21
LOCATION:Nevada Artists Association Gallery\, 449 W King Street\, Carson City\, Nevada\, 89703\, United States
CATEGORIES:Art Exhibits,Arts & Crafts,Carson City,Galleries
ATTACH;FMTTYPE=image/jpeg:https://www.carsonnow.org/wp-content/uploads/2026/03/IMG_2407.jpeg
END:VEVENT
BEGIN:VEVENT
DTSTART;TZID=America/Los_Angeles:20260421T120000
DTEND;TZID=America/Los_Angeles:20260421T160000
DTSTAMP:20260421T073434
CREATED:20260330T223816Z
LAST-MODIFIED:20260330T223818Z
UID:10042262-1776772800-1776787200@www.carsonnow.org
SUMMARY:Flora and Fauna Show at the NAA Gallery
DESCRIPTION:The largest show in NAA history is now on exhibit with 203 entries in 13 different categories by member artists. The Flora and Fauna show runs through May 8.Please visit the NAA Gallery at 449 W. King Street\, Carson City\, NV. Admission is always free and open to the public Tuesday-Sunday\, 12-4pm.
URL:https://www.carsonnow.org/event/flora-and-fauna-show-at-the-naa-gallery/2026-04-21
LOCATION:Nevada Artists Association Gallery\, 449 W King Street\, Carson City\, Nevada\, 89703\, United States
CATEGORIES:Art Exhibits,Carson City,Galleries
ATTACH;FMTTYPE=image/jpeg:https://www.carsonnow.org/wp-content/uploads/2026/03/IMG_2408.jpeg
END:VEVENT
BEGIN:VEVENT
DTSTART;TZID=America/Los_Angeles:20260421T130000
DTEND;TZID=America/Los_Angeles:20260421T143000
DTSTAMP:20260421T073434
CREATED:20251119T005335Z
LAST-MODIFIED:20251119T005339Z
UID:10010227-1776776400-1776781800@www.carsonnow.org
SUMMARY:Maggie M’s Beginning Art Classes for Adults - Tuesdays
DESCRIPTION:1:00 pm – 2:30 pm \n\n\n\nClasses will provide instruction in drawing\, sketching\, and painting with watercolors and acrylics. Classes will be taught every Tuesday \n\n\n\n$25.00Get tickets: https://breweryarts.org/event/20250204-adult-art/ \n\n\n\nBrewery Arts Center – South Building – Painting Studio449 W King StCarson City\, NV
URL:https://www.carsonnow.org/event/maggie-ms-beginning-art-classes-for-adults-tuesdays-2/2026-04-21
LOCATION:Brewery Arts Center\, 449 W King St\, Carson City\, NV\, 89703\, United States
CATEGORIES:Arts & Crafts,Carson City,Education
ATTACH;FMTTYPE=image/jpeg:https://www.carsonnow.org/wp-content/uploads/2025/01/IMG_0378-scaled.jpeg
END:VEVENT
BEGIN:VEVENT
DTSTART;TZID=America/Los_Angeles:20260421T133000
DTEND;TZID=America/Los_Angeles:20260421T160000
DTSTAMP:20260421T073434
CREATED:20250303T222947Z
LAST-MODIFIED:20250303T222950Z
UID:10012924-1776778200-1776787200@www.carsonnow.org
SUMMARY:Carson City Emblem Club Bunko
DESCRIPTION:Come join us onTUESDAY\, MARCH 18\, 2025Doors open at 1:30pm –Game starts at 2:00pmat the Carson City Elks Lodge515 N. Nevada St.Entry Fee $5.00 – Fund RaiserMonies Raised will go to Service Animals & Safe Grad NightPlaying three games for prizesWater and snacks providedWine\, Beer and Soda will be sold at the Elks BarPrizes will be awarded for the following:Most Buncos – Most wins – Most Losses – Who has the Fuzzy at the end ofthe gamePLEASE CALL FOR RESERVATIONS OR MORE INFO – CONTACTSHARON AT 775-246- 1630Come out and have a fun evening and meet new friend
URL:https://www.carsonnow.org/event/carson-city-emblem-club-bunko/2026-04-21
LOCATION:Elks Lodge #2177\, 515 N Nevada St\, Carson City\, 89703\, United States
CATEGORIES:Carson City,Clubs,Entertainment,Fundraisers,Hobbies
ATTACH;FMTTYPE=image/jpeg:https://www.carsonnow.org/wp-content/uploads/2025/03/IMG_9782.jpeg
END:VEVENT
BEGIN:VEVENT
DTSTART;TZID=America/Los_Angeles:20260421T153000
DTEND;TZID=America/Los_Angeles:20260421T170000
DTSTAMP:20260421T073434
CREATED:20250124T235254Z
LAST-MODIFIED:20250124T235257Z
UID:10010487-1776785400-1776790800@www.carsonnow.org
SUMMARY:After School Arts & Crafts with Maggie M - Tuesdays
DESCRIPTION:3:30 pm – 5:00 pm \n\n\n\nA weekly after school art and crafts class for kids 6 to 13. Join Maggie M in exploring different art experiences and learning to use different creative mediums. \n\n\n\n$25.00Get tickets: https://breweryarts.org/event/20250204-after-school-art/ \n\n\n\nBrewery Arts Center – South Building – Painting Studio449 W King StCarson City\, NV
URL:https://www.carsonnow.org/event/after-school-arts-crafts-with-maggie-m-tuesdays/2026-04-21
LOCATION:Brewery Arts Center\, 449 W King St\, Carson City\, NV\, 89703\, United States
CATEGORIES:Arts & Crafts,Carson City,Children’s Events,Education
ATTACH;FMTTYPE=image/jpeg:https://www.carsonnow.org/wp-content/uploads/2025/01/IMG_0375.jpeg
END:VEVENT
BEGIN:VEVENT
DTSTART;TZID=America/Los_Angeles:20260421T170000
DTEND;TZID=America/Los_Angeles:20260421T190000
DTSTAMP:20260421T073434
CREATED:20260409T221649Z
LAST-MODIFIED:20260409T221651Z
UID:10042477-1776790800-1776798000@www.carsonnow.org
SUMMARY:3rd Tuesday Networking Event Carson City - Missing Link Network
DESCRIPTION: You’re Invited to Missing Link Networking’s 3rd Tuesday!  \n\n\n\nJoin us for an incredible evening of connection and community at the one and only Polecat Tavern — A Place for Music! \n\n\n\n Tuesday\, April 21 \n\n\n\n 5:00 – 7:00 PM \n\n\n\n 260 W. Winnie Lane\, Carson City\, NVMissing Link Networking brings together local business professionals\, entrepreneurs\, and community leaders for a relaxed\, no-pressure networking experience. This month we’re gathering at the fun and lively Polecat Tavern — great music\, great people\, great conversations!Whether you’re looking to grow your business\, find new referral partners\, or simply expand your circle — this is your missing link!  \n\n\n\nProudly supported by the Alignable Ambassador Alliance. \n\n\n\n Come hungry to connect — and don’t forget your business cards!We can’t wait to see you there!
URL:https://www.carsonnow.org/event/3rd-tuesday-networking-event-carson-city-missing-link-network
LOCATION:Polecat Tavern\, 260 W Winnie Ln\, Carson City\, 89703\, United States
CATEGORIES:Business,Carson City,Clubs,Community,Networking
ATTACH;FMTTYPE=image/png:https://www.carsonnow.org/wp-content/uploads/2026/04/IMG_2488.png
END:VEVENT
BEGIN:VEVENT
DTSTART;TZID=America/Los_Angeles:20260421T170000
DTEND;TZID=America/Los_Angeles:20260421T190000
DTSTAMP:20260421T073434
CREATED:20260414T213328Z
LAST-MODIFIED:20260414T213330Z
UID:10042617-1776790800-1776798000@www.carsonnow.org
SUMMARY:Missing Link Network - Battle Born Leaders 3rd Tuesday Carson City Social |Polecat Tavern
DESCRIPTION: You’re Invited — 3rd Tuesday Networking Social!Join us at the Polecat Tavern for an evening of great conversation\, genuine connections\, and good vibes with fellow Battle Born Leaders and the Missing Link Network community! \n\n\n\n 260 W. Winnie Lane\, Carson City\, NV \n\n\n\n Tuesday\, April 21 \n\n\n\n 5:00 – 7:00 PMWhether you’re a seasoned networker or just getting started\, this is the kind of room where real relationships are built. Come as you are\, bring your business cards\, and let’s make some connections that matter.See you there!  \n\n\n\nMissing Link Network – Battle Born Leaders | 3rd Tuesday Networking Social
URL:https://www.carsonnow.org/event/missing-link-network-battle-born-leaders-3rd-tuesday-carson-city-social-polecat-tavern
LOCATION:Polecat Tavern\, 260 W Winnie Ln\, Carson City\, 89703\, United States
CATEGORIES:Bars & Lounges,Business,Carson City,Community,Entertainment,Networking
ATTACH;FMTTYPE=image/png:https://www.carsonnow.org/wp-content/uploads/2026/04/IMG_2535.png
END:VEVENT
BEGIN:VEVENT
DTSTART;TZID=America/Los_Angeles:20260421T193000
DTEND;TZID=America/Los_Angeles:20260421T213000
DTSTAMP:20260421T073434
CREATED:20251008T160451Z
LAST-MODIFIED:20251015T223826Z
UID:10030806-1776799800-1776807000@www.carsonnow.org
SUMMARY:Sierra Inline League Women’s Roller Hockey
DESCRIPTION:Women’s Roller Hockey (16+ women only) to take place at the Tex Marv Pavillion in Mills Park starting Wednesday night at 7:30 from November through March! AAU insurance must be purchased which can be found on the website. https://www.sierrainlinehockey.com/
URL:https://www.carsonnow.org/event/sierra-inline-league-womens-roller-hockey/2026-04-21
LOCATION:Mills Park\, 111 E Williams St\, Carson City\, 89701\, United States
CATEGORIES:Carson City,Sports
ATTACH;FMTTYPE=image/png:https://www.carsonnow.org/wp-content/uploads/2025/10/IMG_1551.png
END:VEVENT
END:VCALENDAR